Workbook
Name Activity_status: ActivityStatus[Activity status]
Name Activity_status: ActivityStatus[Activity status]
Name Activity_status: ActivityStatus[Activity status]
Name AgreementNumber: OFFSET('INT-Pivots'!#REF!,0,0,COUNTA('INT-Pivots'!#REF!),1)
Name Indicators_detail: IndicatorsAll[]
Name Indicators_detail: IndicatorsAll[]
Name Indicators_detail: IndicatorsAll[]
Name Indicators_detail: IndicatorsAll[]
Name Indicators_detail: IndicatorsAll[]
Name IndicatorsDetail: IndicatorsAll[]
Name IndicatorsDetail: IndicatorsAll[]
Name IndicatorsDetail: IndicatorsAll[]
Name IndicatorsDetail: IndicatorsAll[]
Name IndicatorsDetail: IndicatorsAll[]
Name Objective_status: 'Form validation'!$F$3:$F$4
Name Outcome: #REF!
Name Outcome: #REF!
Name Outcome: #REF!
Name Outcome: #REF!
Name Output: #REF!
Name Output: #REF!
Name Output: #REF!
Name Output: #REF!
Name Output_status: ActivityStatus[Output status]
Name Output_status: ActivityStatus[Output status]
Name Output_status: ActivityStatus[Output status]
Name Slicer_Agreement_filter: #N/A
Name test: ActivityStatus[Activity status]
Name test1: IndicatorsAll[]
Name test2: IndicatorsAll[]

Sheet Please enable macros
B2: Please enable macros to use this document.
B4: If this message appears below the ribbon, click the "Enable Content" button.
B9: If a security warning window pops up, click the "Yes" or "Enable macros" button.
B32: If you don't see either option, go to "File" > "Options" > "Trust Center"
B51: Then go to "Trust Center Settings" > "Macro Settings." Select "Enable all macros" then close and reopen this document.

Sheet Dashboard
B1: Progress dashboard | G1: About the dashboard
B2: ='1.Signature page'!C3 -> Accelerating actions to improve organic waste management and reduce methane emissions. (PA-24-003)
B3: ='1.Signature page'!C4 -> UNDP Panama
B5: ACTIVITIES COMPLETED | D5: OUTPUTS COMPLETED
B6: =CONCATENATE(COUNTIF($I$11:$I$31,"yes")," / ",COUNTIF('INT-Pivots'!CB6:CB245,"*")) -> 3 / 26 | D6: =CONCATENATE(COUNTIF($J$11:$J$31,"yes")," / ",COUNTIF('INT-Pivots'!U6:U65,"*")) -> 0 / 9
B9: PROJECT PROGRESS | M9: EXPENDITURE BY ACTIVITY (CCAC funding) | Y9: SUMMARY BY COST CATEGORY
B10: Description | C10: Delivery date | D10: =CONCATENATE("Reporting period: ",'1.Signature page'!$C$20) -> Reporting period: 11/12/2025 - 30/06/2026 | E10: =CONCATENATE("Reporting period: ",'1.Signature page'!$C$35) -> Reporting period: 01/07/2026 - 31/12/2026 | F10: =CONCATENATE("Reporting period: ",'1.Signature page'!$C$50) -> Reporting period: 01/01/2027 - 30/06/2027 | G10: =CONCATENATE("Reporting period: ",'1.Signature page'!$C$65) -> Reporting period: | H10: =CONCATENATE("Reporting period: ",'1.Signature page'!$C$80) -> Reporting period: | I10: Activity complete | J10: Output complete | K10: Outcome completed | M10: Related activity | N10: Category | O10: Total budget | P10: Total expenditure | Q10: =IF(ISBLANK('1.Signature page'!$C$20),"",CONCATENATE("Reporting period: ",'1.Signature page'!$C$20)) -> Reporting period: 11/12/2025 - 30/06/2026 | R10: =IF(ISBLANK('1.Signature page'!$C$35),"",CONCATENATE("Reporting period: ",'1.Signature page'!$C$35)) -> Reporting period: 01/07/2026 - 31/12/2026 | S10: =IF(ISBLANK('1.Signature page'!$C$50),"",CONCATENATE("Reporting period: ",'1.Signature page'!$C$50)) -> Reporting period: 01/01/2027 - 30/06/2027 | T10: =IF(ISBLANK('1.Signature page'!$C$65),"",CONCATENATE("Reporting period: ",'1.Signature page'!$C$65)) | U10: =IF(ISBLANK('1.Signature page'!$C$80),"",CONCATENATE("Reporting period: ",'1.Signature page'!$C$80)) | W10: Expenditure per avtivity Cofunding | Y10: Category | Z10: Total budget | AA10: Total expenditure | AB10: Variance
B11: =IF('INT-Pivots'!G6="","",'INT-Pivots'!G6) -> Outcome 1. The Government of Panama has increased knowledge on opportunities and options for organic waste diversion including their positive impacts by the end of the project or soon after. | C11: =IF('INT-Pivots'!K6="","",IF('INT-Pivots'!K6="(blank)","Project end",VALUE('INT-Pivots'!K6))) -> Project end | D11: =IF(ISBLANK('2. Narrative'!R6),"",'2. Narrative'!R6) -> On track | E11: =IF(ISBLANK('2. Narrative'!X6),"",'2. Narrative'!X6) | F11: =IF(ISBLANK('2. Narrative'!AD6),"",'2. Narrative'!AD6) | G11: =IF(ISBLANK('2. Narrative'!AJ6),"",'2. Narrative'!AJ6) | H11: =IF(ISBLANK('2. Narrative'!AP6),"",'2. Narrative'!AP6) | I11: =IF(AND(ISNUMBER(SEARCH("Activity",$B11)),COUNTIF($D11:$H11,"Complete")>0),"yes","no") -> no | J11: =IF(AND(ISNUMBER(SEARCH("Output",$B11)),COUNTIF($D11:$H11,"Complete")>0),"yes","no") -> no | K11: =IF(AND(ISNUMBER(SEARCH("Outcome",$B11)),COUNTIF($D11:$H11,"Complete")>0),"yes","no") -> no | N11: Total | O11: =SUM(O12:O210) -> #REF! | P11: =SUM(P12:P150) -> #REF! | Q11: =SUM(Q12:Q150) -> #REF! | R11: =SUM(R12:R150) -> #REF! | S11: =SUM(S12:S150) -> #REF! | T11: =SUM(T12:T150) -> #REF! | U11: =SUM(U12:U150) -> #REF! | W11: =SUM(W12:W211) -> #REF! | Y11: Total | Z11: =SUM(Z12:Z18) -> 390000 | AA11: =SUM(AA12:AA17) -> 19586.75 | AB11: =IF(Z11="","",IF(ISERROR((AA11-Z11)/Z11),"",(AA11-Z11)/Z11)) -> -0.94977756
B12: =IF('INT-Pivots'!G7="","",'INT-Pivots'!G7) -> Output 1.1 Pre-feasibility studies for organic waste treatment options | C12: =IF('INT-Pivots'!K7="","",IF('INT-Pivots'!K7="(blank)","Project end",VALUE('INT-Pivots'!K7))) -> 45992 | D12: =IF(ISBLANK('2. Narrative'!R7),"",'2. Narrative'!R7) -> Delayed | E12: =IF(ISBLANK('2. Narrative'!X7),"",'2. Narrative'!X7) | F12: =IF(ISBLANK('2. Narrative'!AD7),"",'2. Narrative'!AD7) | G12: =IF(ISBLANK('2. Narrative'!AJ7),"",'2. Narrative'!AJ7) | H12: =IF(ISBLANK('2. Narrative'!AP7),"",'2. Narrative'!AP7) | I12: =IF(AND(ISNUMBER(SEARCH("Activity",$B12)),COUNTIF($D12:$H12,"Complete")>0),"yes","no") -> no | J12: =IF(AND(ISNUMBER(SEARCH("Output",$B12)),COUNTIF($D12:$H12,"Complete")>0),"yes","no") -> no | K12: =IF(AND(ISNUMBER(SEARCH("Outcome",$B12)),COUNTIF($D12:$H12,"Complete")>0),"yes","no") -> no | M12: =IF('3. Expenditures'!D6="CCAC", '3. Expenditures'!B6, 0) -> Activity 1.1.1 Conduct consultations with government entities, MERCA representatives, and private sector players, ensuring equal participation of women and men, to define treatment options. | N12: =IF('3. Expenditures'!D6="CCAC", '3. Expenditures'!C6, 0) -> Staff and Other Personnel Costs | O12: =IF('3. Expenditures'!D6="CCAC", '3. Expenditures'!E6, 0) -> 15000 | P12: =SUM(Q12:U12) -> 5880 | Q12: =IF('3. Expenditures'!D6="CCAC", '3. Expenditures'!L6, 0) -> 5880 | R12: =IF('3. Expenditures'!D6="CCAC", '3. Expenditures'!N6, 0) -> 0 | S12: =IF('3. Expenditures'!D6="CCAC", '3. Expenditures'!P6, 0) -> 0 | T12: =IF('3. Expenditures'!D6="CCAC", '3. Expenditures'!R6, 0) -> 0 | U12: =IF('3. Expenditures'!D6="CCAC", '3. Expenditures'!T6, 0) -> 0 | W12: =IF('3. Expenditures'!D6="Co-funding", '3. Expenditures'!L6+'3. Expenditures'!N6+'3. Expenditures'!P6+'3. Expenditures'!R6+'3. Expenditures'!T6, 0) -> 0 | Y12: Contractual Services | Z12: =SUMIF($N$12:$N$210,$Y12,$O$12:$O$236) -> 102686 | AA12: =SUMIF($N$12:$N$210,$Y12,$P$12:$P$236) -> 0 | AB12: =IF(Z12="","",IF(ISERROR((AA12-Z12)/Z12),"",(AA12-Z12)/Z12)) -> -1
B13: =IF('INT-Pivots'!G8="","",'INT-Pivots'!G8) -> Activity 1.1.1 Conduct consultations with government entities, MERCA representatives, and private sector players, ensuring equal participation of women and men, to define treatment options. | C13: =IF('INT-Pivots'!K8="","",IF('INT-Pivots'!K8="(blank)","Project end",VALUE('INT-Pivots'!K8))) -> 45901 | D13: =IF(ISBLANK('2. Narrative'!R8),"",'2. Narrative'!R8) -> Complete | E13: =IF(ISBLANK('2. Narrative'!X8),"",'2. Narrative'!X8) | F13: =IF(ISBLANK('2. Narrative'!AD8),"",'2. Narrative'!AD8) | G13: =IF(ISBLANK('2. Narrative'!AJ8),"",'2. Narrative'!AJ8) | H13: =IF(ISBLANK('2. Narrative'!AP8),"",'2. Narrative'!AP8) | I13: =IF(AND(ISNUMBER(SEARCH("Activity",$B13)),COUNTIF($D13:$H13,"Complete")>0),"yes","no") -> yes | J13: =IF(AND(ISNUMBER(SEARCH("Output",$B13)),COUNTIF($D13:$H13,"Complete")>0),"yes","no") -> no | K13: =IF(AND(ISNUMBER(SEARCH("Outcome",$B13)),COUNTIF($D13:$H13,"Complete")>0),"yes","no") -> no | M13: =IF('3. Expenditures'!D7="CCAC", '3. Expenditures'!B7, 0) -> Activity 1.1.1 Conduct consultations with government entities, MERCA representatives, and private sector players, ensuring equal participation of women and men, to define treatment options. | N13: =IF('3. Expenditures'!D7="CCAC", '3. Expenditures'!C7, 0) -> Travel | O13: =IF('3. Expenditures'!D7="CCAC", '3. Expenditures'!E7, 0) -> 2000 | P13: =SUM(Q13:U13) -> 1333 | Q13: =IF('3. Expenditures'!D7="CCAC", '3. Expenditures'!L7, 0) -> 1333 | R13: =IF('3. Expenditures'!D7="CCAC", '3. Expenditures'!N7, 0) -> 0 | S13: =IF('3. Expenditures'!D7="CCAC", '3. Expenditures'!P7, 0) -> 0 | T13: =IF('3. Expenditures'!D7="CCAC", '3. Expenditures'!R7, 0) -> 0 | U13: =IF('3. Expenditures'!D7="CCAC", '3. Expenditures'!T7, 0) -> 0 | W13: =IF('3. Expenditures'!D7="Co-funding", '3. Expenditures'!L7+'3. Expenditures'!N7+'3. Expenditures'!P7+'3. Expenditures'!R7+'3. Expenditures'!T7, 0) -> 0 | Y13: Equipment Vehicles and Furniture | Z13: =SUMIF($N$12:$N$210,$Y13,$O$12:$O$236) -> 3000 | AA13: =SUMIF($N$12:$N$210,$Y13,$P$12:$P$236) -> 0 | AB13: =IF(Z13="","",IF(ISERROR((AA13-Z13)/Z13),"",(AA13-Z13)/Z13)) -> -1
B14: =IF('INT-Pivots'!G9="","",'INT-Pivots'!G9) -> Activity 1.1.2 Evaluate technical and economic feasibility for technologies like composting and anaerobic digestion, including an analysis of how these benefit women-led businesses and communities. | C14: =IF('INT-Pivots'!K9="","",IF('INT-Pivots'!K9="(blank)","Project end",VALUE('INT-Pivots'!K9))) -> 45992 | D14: =IF(ISBLANK('2. Narrative'!R9),"",'2. Narrative'!R9) -> Delayed | E14: =IF(ISBLANK('2. Narrative'!X9),"",'2. Narrative'!X9) | F14: =IF(ISBLANK('2. Narrative'!AD9),"",'2. Narrative'!AD9) | G14: =IF(ISBLANK('2. Narrative'!AJ9),"",'2. Narrative'!AJ9) | H14: =IF(ISBLANK('2. Narrative'!AP9),"",'2. Narrative'!AP9) | I14: =IF(AND(ISNUMBER(SEARCH("Activity",$B14)),COUNTIF($D14:$H14,"Complete")>0),"yes","no") -> no | J14: =IF(AND(ISNUMBER(SEARCH("Output",$B14)),COUNTIF($D14:$H14,"Complete")>0),"yes","no") -> no | K14: =IF(AND(ISNUMBER(SEARCH("Outcome",$B14)),COUNTIF($D14:$H14,"Complete")>0),"yes","no") -> no | M14: =IF('3. Expenditures'!D8="CCAC", '3. Expenditures'!B8, 0) -> Activity 1.1.2 Evaluate technical and economic feasibility for technologies like composting and anaerobic digestion, including an analysis of how these benefit women-led businesses and communities. | N14: =IF('3. Expenditures'!D8="CCAC", '3. Expenditures'!C8, 0) -> Staff and Other Personnel Costs | O14: =IF('3. Expenditures'!D8="CCAC", '3. Expenditures'!E8, 0) -> 20000 | P14: =SUM(Q14:U14) -> 12373.75 | Q14: =IF('3. Expenditures'!D8="CCAC", '3. Expenditures'!L8, 0) -> 12373.75 | R14: =IF('3. Expenditures'!D8="CCAC", '3. Expenditures'!N8, 0) -> 0 | S14: =IF('3. Expenditures'!D8="CCAC", '3. Expenditures'!P8, 0) -> 0 | T14: =IF('3. Expenditures'!D8="CCAC", '3. Expenditures'!R8, 0) -> 0 | U14: =IF('3. Expenditures'!D8="CCAC", '3. Expenditures'!T8, 0) -> 0 | W14: =IF('3. Expenditures'!D8="Co-funding", '3. Expenditures'!L8+'3. Expenditures'!N8+'3. Expenditures'!P8+'3. Expenditures'!R8+'3. Expenditures'!T8, 0) -> 0 | Y14: Operating and Other Direct Costs | Z14: =SUMIF($N$12:$N$210,$Y14,$O$12:$O$236) -> 0 | AA14: =SUMIF($N$12:$N$210,$Y14,$P$12:$P$236) -> 0 | AB14: =IF(Z14="","",IF(ISERROR((AA14-Z14)/Z14),"",(AA14-Z14)/Z14))
B15: =IF('INT-Pivots'!G10="","",'INT-Pivots'!G10) -> Output 1.2 Estimates of decentralized infraestructure supporting diverted organic waste | C15: =IF('INT-Pivots'!K10="","",IF('INT-Pivots'!K10="(blank)","Project end",VALUE('INT-Pivots'!K10))) -> 45992 | D15: =IF(ISBLANK('2. Narrative'!R10),"",'2. Narrative'!R10) -> On track | E15: =IF(ISBLANK('2. Narrative'!X10),"",'2. Narrative'!X10) | F15: =IF(ISBLANK('2. Narrative'!AD10),"",'2. Narrative'!AD10) | G15: =IF(ISBLANK('2. Narrative'!AJ10),"",'2. Narrative'!AJ10) | H15: =IF(ISBLANK('2. Narrative'!AP10),"",'2. Narrative'!AP10) | I15: =IF(AND(ISNUMBER(SEARCH("Activity",$B15)),COUNTIF($D15:$H15,"Complete")>0),"yes","no") -> no | J15: =IF(AND(ISNUMBER(SEARCH("Output",$B15)),COUNTIF($D15:$H15,"Complete")>0),"yes","no") -> no | K15: =IF(AND(ISNUMBER(SEARCH("Outcome",$B15)),COUNTIF($D15:$H15,"Complete")>0),"yes","no") -> no | M15: =IF('3. Expenditures'!D9="CCAC", '3. Expenditures'!B9, 0) -> Activity 1.2.1 Map existing and potential decentralized infrastructure for waste management, engaging municipalities and local organizations to provide on-ground insights. | N15: =IF('3. Expenditures'!D9="CCAC", '3. Expenditures'!C9, 0) -> Staff and Other Personnel Costs | O15: =IF('3. Expenditures'!D9="CCAC", '3. Expenditures'!E9, 0) -> 10000 | P15: =SUM(Q15:U15) -> 0 | Q15: =IF('3. Expenditures'!D9="CCAC", '3. Expenditures'!L9, 0) -> 0 | R15: =IF('3. Expenditures'!D9="CCAC", '3. Expenditures'!N9, 0) -> 0 | S15: =IF('3. Expenditures'!D9="CCAC", '3. Expenditures'!P9, 0) -> 0 | T15: =IF('3. Expenditures'!D9="CCAC", '3. Expenditures'!R9, 0) -> 0 | U15: =IF('3. Expenditures'!D9="CCAC", '3. Expenditures'!T9, 0) -> 0 | W15: =IF('3. Expenditures'!D9="Co-funding", '3. Expenditures'!L9+'3. Expenditures'!N9+'3. Expenditures'!P9+'3. Expenditures'!R9+'3. Expenditures'!T9, 0) -> 0 | Y15: Staff and Other Personnel Costs | Z15: =SUMIF($N$12:$N$210,$Y15,$O$12:$O$236) -> 255000 | AA15: =SUMIF($N$12:$N$210,$Y15,$P$12:$P$236) -> 18253.75 | AB15: =IF(Z15="","",IF(ISERROR((AA15-Z15)/Z15),"",(AA15-Z15)/Z15)) -> -0.92841667
B16: =IF('INT-Pivots'!G11="","",'INT-Pivots'!G11) -> Activity 1.2.1 Map existing and potential decentralized infrastructure for waste management, engaging municipalities and local organizations to provide on-ground insights. | C16: =IF('INT-Pivots'!K11="","",IF('INT-Pivots'!K11="(blank)","Project end",VALUE('INT-Pivots'!K11))) -> 45901 | D16: =IF(ISBLANK('2. Narrative'!R11),"",'2. Narrative'!R11) -> Delayed | E16: =IF(ISBLANK('2. Narrative'!X11),"",'2. Narrative'!X11) | F16: =IF(ISBLANK('2. Narrative'!AD11),"",'2. Narrative'!AD11) | G16: =IF(ISBLANK('2. Narrative'!AJ11),"",'2. Narrative'!AJ11) | H16: =IF(ISBLANK('2. Narrative'!AP11),"",'2. Narrative'!AP11) | I16: =IF(AND(ISNUMBER(SEARCH("Activity",$B16)),COUNTIF($D16:$H16,"Complete")>0),"yes","no") -> no | J16: =IF(AND(ISNUMBER(SEARCH("Output",$B16)),COUNTIF($D16:$H16,"Complete")>0),"yes","no") -> no | K16: =IF(AND(ISNUMBER(SEARCH("Outcome",$B16)),COUNTIF($D16:$H16,"Complete")>0),"yes","no") -> no | M16: =IF('3. Expenditures'!D10="CCAC", '3. Expenditures'!B10, 0) -> Activity 1.2.2 Conduct site visits and surveys, collecting gender-disaggregated data to ensure proposed infrastructure meets the needs of both genders. | N16: =IF('3. Expenditures'!D10="CCAC", '3. Expenditures'!C10, 0) -> Travel | O16: =IF('3. Expenditures'!D10="CCAC", '3. Expenditures'!E10, 0) -> 1800 | P16: =SUM(Q16:U16) -> 0 | Q16: =IF('3. Expenditures'!D10="CCAC", '3. Expenditures'!L10, 0) -> 0 | R16: =IF('3. Expenditures'!D10="CCAC", '3. Expenditures'!N10, 0) -> 0 | S16: =IF('3. Expenditures'!D10="CCAC", '3. Expenditures'!P10, 0) -> 0 | T16: =IF('3. Expenditures'!D10="CCAC", '3. Expenditures'!R10, 0) -> 0 | U16: =IF('3. Expenditures'!D10="CCAC", '3. Expenditures'!T10, 0) -> 0 | W16: =IF('3. Expenditures'!D10="Co-funding", '3. Expenditures'!L10+'3. Expenditures'!N10+'3. Expenditures'!P10+'3. Expenditures'!R10+'3. Expenditures'!T10, 0) -> 0 | Y16: Supplies Commodities and Materials | Z16: =SUMIF($N$12:$N$210,$Y16,$O$12:$O$236) -> 0 | AA16: =SUMIF($N$12:$N$210,$Y16,$P$12:$P$236) -> 0 | AB16: =IF(Z16="","",IF(ISERROR((AA16-Z16)/Z16),"",(AA16-Z16)/Z16))
B17: =IF('INT-Pivots'!G12="","",'INT-Pivots'!G12) -> Activity 1.2.2 Conduct site visits and surveys, collecting gender-disaggregated data to ensure proposed infrastructure meets the needs of both genders. | C17: =IF('INT-Pivots'!K12="","",IF('INT-Pivots'!K12="(blank)","Project end",VALUE('INT-Pivots'!K12))) -> 45992 | D17: =IF(ISBLANK('2. Narrative'!R12),"",'2. Narrative'!R12) -> Complete | E17: =IF(ISBLANK('2. Narrative'!X12),"",'2. Narrative'!X12) | F17: =IF(ISBLANK('2. Narrative'!AD12),"",'2. Narrative'!AD12) | G17: =IF(ISBLANK('2. Narrative'!AJ12),"",'2. Narrative'!AJ12) | H17: =IF(ISBLANK('2. Narrative'!AP12),"",'2. Narrative'!AP12) | I17: =IF(AND(ISNUMBER(SEARCH("Activity",$B17)),COUNTIF($D17:$H17,"Complete")>0),"yes","no") -> yes | J17: =IF(AND(ISNUMBER(SEARCH("Output",$B17)),COUNTIF($D17:$H17,"Complete")>0),"yes","no") -> no | K17: =IF(AND(ISNUMBER(SEARCH("Outcome",$B17)),COUNTIF($D17:$H17,"Complete")>0),"yes","no") -> no | M17: =IF('3. Expenditures'!D11="CCAC", '3. Expenditures'!B11, 0) -> Activity 1.2.3 Develop cost-benefit analyses, incorporating feedback from diverse stakeholders through an online webinar. | N17: =IF('3. Expenditures'!D11="CCAC", '3. Expenditures'!C11, 0) -> Staff and Other Personnel Costs | O17: =IF('3. Expenditures'!D11="CCAC", '3. Expenditures'!E11, 0) -> 5000 | P17: =SUM(Q17:U17) -> 0 | Q17: =IF('3. Expenditures'!D11="CCAC", '3. Expenditures'!L11, 0) -> 0 | R17: =IF('3. Expenditures'!D11="CCAC", '3. Expenditures'!N11, 0) -> 0 | S17: =IF('3. Expenditures'!D11="CCAC", '3. Expenditures'!P11, 0) -> 0 | T17: =IF('3. Expenditures'!D11="CCAC", '3. Expenditures'!R11, 0) -> 0 | U17: =IF('3. Expenditures'!D11="CCAC", '3. Expenditures'!T11, 0) -> 0 | W17: =IF('3. Expenditures'!D11="Co-funding", '3. Expenditures'!L11+'3. Expenditures'!N11+'3. Expenditures'!P11+'3. Expenditures'!R11+'3. Expenditures'!T11, 0) -> 0 | Y17: Travel | Z17: =SUMIF($N$12:$N$210,$Y17,$O$12:$O$236) -> 3800 | AA17: =SUMIF($N$12:$N$210,$Y17,$P$12:$P$236) -> 1333 | AB17: =IF(Z17="","",IF(ISERROR((AA17-Z17)/Z17),"",(AA17-Z17)/Z17)) -> -0.64921053
B18: =IF('INT-Pivots'!G13="","",'INT-Pivots'!G13) -> Activity 1.2.3 Develop cost-benefit analyses, incorporating feedback from diverse stakeholders through an online webinar. | C18: =IF('INT-Pivots'!K13="","",IF('INT-Pivots'!K13="(blank)","Project end",VALUE('INT-Pivots'!K13))) -> 46082 | D18: =IF(ISBLANK('2. Narrative'!R13),"",'2. Narrative'!R13) -> Complete | E18: =IF(ISBLANK('2. Narrative'!X13),"",'2. Narrative'!X13) | F18: =IF(ISBLANK('2. Narrative'!AD13),"",'2. Narrative'!AD13) | G18: =IF(ISBLANK('2. Narrative'!AJ13),"",'2. Narrative'!AJ13) | H18: =IF(ISBLANK('2. Narrative'!AP13),"",'2. Narrative'!AP13) | I18: =IF(AND(ISNUMBER(SEARCH("Activity",$B18)),COUNTIF($D18:$H18,"Complete")>0),"yes","no") -> yes | J18: =IF(AND(ISNUMBER(SEARCH("Output",$B18)),COUNTIF($D18:$H18,"Complete")>0),"yes","no") -> no | K18: =IF(AND(ISNUMBER(SEARCH("Outcome",$B18)),COUNTIF($D18:$H18,"Complete")>0),"yes","no") -> no | M18: =IF('3. Expenditures'!D12="CCAC", '3. Expenditures'!B12, 0) -> Activity 1.3.1 Develop a list of complementary technologies and infrastructure to enhance organic waste management, consulting stakeholders such as circular economy specialists and private sector innovators. | N18: =IF('3. Expenditures'!D12="CCAC", '3. Expenditures'!C12, 0) -> Staff and Other Personnel Costs | O18: =IF('3. Expenditures'!D12="CCAC", '3. Expenditures'!E12, 0) -> 20000 | P18: =SUM(Q18:U18) -> 0 | Q18: =IF('3. Expenditures'!D12="CCAC", '3. Expenditures'!L12, 0) -> 0 | R18: =IF('3. Expenditures'!D12="CCAC", '3. Expenditures'!N12, 0) -> 0 | S18: =IF('3. Expenditures'!D12="CCAC", '3. Expenditures'!P12, 0) -> 0 | T18: =IF('3. Expenditures'!D12="CCAC", '3. Expenditures'!R12, 0) -> 0 | U18: =IF('3. Expenditures'!D12="CCAC", '3. Expenditures'!T12, 0) -> 0 | W18: =IF('3. Expenditures'!D12="Co-funding", '3. Expenditures'!L12+'3. Expenditures'!N12+'3. Expenditures'!P12+'3. Expenditures'!R12+'3. Expenditures'!T12, 0) -> 0 | Y18: UN-PSC | Z18: =SUMIF($N$12:$N$210,$Y18,$O$12:$O$236) -> 25514 | AA18: =SUMIF($N$12:$N$210,$Y18,$P$12:$P$236) -> 1371.0725 | AB18: =IF(Z18="","",IF(ISERROR((AA18-Z18)/Z18),"",(AA18-Z18)/Z18)) -> -0.94626195
B19: =IF('INT-Pivots'!G14="","",'INT-Pivots'!G14) -> Output 1.3 Recommendations for alternative/ complementary infraestrucutre | C19: =IF('INT-Pivots'!K14="","",IF('INT-Pivots'!K14="(blank)","Project end",VALUE('INT-Pivots'!K14))) -> 46266 | D19: =IF(ISBLANK('2. Narrative'!R14),"",'2. Narrative'!R14) -> On track | E19: =IF(ISBLANK('2. Narrative'!X14),"",'2. Narrative'!X14) | F19: =IF(ISBLANK('2. Narrative'!AD14),"",'2. Narrative'!AD14) | G19: =IF(ISBLANK('2. Narrative'!AJ14),"",'2. Narrative'!AJ14) | H19: =IF(ISBLANK('2. Narrative'!AP14),"",'2. Narrative'!AP14) | I19: =IF(AND(ISNUMBER(SEARCH("Activity",$B19)),COUNTIF($D19:$H19,"Complete")>0),"yes","no") -> no | J19: =IF(AND(ISNUMBER(SEARCH("Output",$B19)),COUNTIF($D19:$H19,"Complete")>0),"yes","no") -> no | K19: =IF(AND(ISNUMBER(SEARCH("Outcome",$B19)),COUNTIF($D19:$H19,"Complete")>0),"yes","no") -> no | M19: =IF('3. Expenditures'!D13="CCAC", '3. Expenditures'!B13, 0) -> Activity 1.3.2 Host a gender-balanced expert panel to validate recommendations, prioritizing options that create employment for women. | N19: =IF('3. Expenditures'!D13="CCAC", '3. Expenditures'!C13, 0) -> Contractual Services | O19: =IF('3. Expenditures'!D13="CCAC", '3. Expenditures'!E13, 0) -> 1000 | P19: =SUM(Q19:U19) -> 0 | Q19: =IF('3. Expenditures'!D13="CCAC", '3. Expenditures'!L13, 0) -> 0 | R19: =IF('3. Expenditures'!D13="CCAC", '3. Expenditures'!N13, 0) -> 0 | S19: =IF('3. Expenditures'!D13="CCAC", '3. Expenditures'!P13, 0) -> 0 | T19: =IF('3. Expenditures'!D13="CCAC", '3. Expenditures'!R13, 0) -> 0 | U19: =IF('3. Expenditures'!D13="CCAC", '3. Expenditures'!T13, 0) -> 0 | W19: =IF('3. Expenditures'!D13="Co-funding", '3. Expenditures'!L13+'3. Expenditures'!N13+'3. Expenditures'!P13+'3. Expenditures'!R13+'3. Expenditures'!T13, 0) -> 0
B20: =IF('INT-Pivots'!G15="","",'INT-Pivots'!G15) -> Activity 1.3.1 Develop a list of complementary technologies and infrastructure to enhance organic waste management, consulting stakeholders such as circular economy specialists and private sector innovators. | C20: =IF('INT-Pivots'!K15="","",IF('INT-Pivots'!K15="(blank)","Project end",VALUE('INT-Pivots'!K15))) -> 46174 | D20: =IF(ISBLANK('2. Narrative'!R15),"",'2. Narrative'!R15) -> On track | E20: =IF(ISBLANK('2. Narrative'!X15),"",'2. Narrative'!X15) | F20: =IF(ISBLANK('2. Narrative'!AD15),"",'2. Narrative'!AD15) | G20: =IF(ISBLANK('2. Narrative'!AJ15),"",'2. Narrative'!AJ15) | H20: =IF(ISBLANK('2. Narrative'!AP15),"",'2. Narrative'!AP15) | I20: =IF(AND(ISNUMBER(SEARCH("Activity",$B20)),COUNTIF($D20:$H20,"Complete")>0),"yes","no") -> no | J20: =IF(AND(ISNUMBER(SEARCH("Output",$B20)),COUNTIF($D20:$H20,"Complete")>0),"yes","no") -> no | K20: =IF(AND(ISNUMBER(SEARCH("Outcome",$B20)),COUNTIF($D20:$H20,"Complete")>0),"yes","no") -> no | M20: =IF('3. Expenditures'!D14="CCAC", '3. Expenditures'!B14, 0) -> Activity 1.3.3 Prepare an accessible visual infographic summarizing key recommendations for public dissemination. | N20: =IF('3. Expenditures'!D14="CCAC", '3. Expenditures'!C14, 0) -> Contractual Services | O20: =IF('3. Expenditures'!D14="CCAC", '3. Expenditures'!E14, 0) -> 2000 | P20: =SUM(Q20:U20) -> 0 | Q20: =IF('3. Expenditures'!D14="CCAC", '3. Expenditures'!L14, 0) -> 0 | R20: =IF('3. Expenditures'!D14="CCAC", '3. Expenditures'!N14, 0) -> 0 | S20: =IF('3. Expenditures'!D14="CCAC", '3. Expenditures'!P14, 0) -> 0 | T20: =IF('3. Expenditures'!D14="CCAC", '3. Expenditures'!R14, 0) -> 0 | U20: =IF('3. Expenditures'!D14="CCAC", '3. Expenditures'!T14, 0) -> 0 | W20: =IF('3. Expenditures'!D14="Co-funding", '3. Expenditures'!L14+'3. Expenditures'!N14+'3. Expenditures'!P14+'3. Expenditures'!R14+'3. Expenditures'!T14, 0) -> 0
B21: =IF('INT-Pivots'!G16="","",'INT-Pivots'!G16) -> Activity 1.3.2 Host a gender-balanced expert panel to validate recommendations, prioritizing options that create employment for women. | C21: =IF('INT-Pivots'!K16="","",IF('INT-Pivots'!K16="(blank)","Project end",VALUE('INT-Pivots'!K16))) -> 46174 | D21: =IF(ISBLANK('2. Narrative'!R16),"",'2. Narrative'!R16) -> On track | E21: =IF(ISBLANK('2. Narrative'!X16),"",'2. Narrative'!X16) | F21: =IF(ISBLANK('2. Narrative'!AD16),"",'2. Narrative'!AD16) | G21: =IF(ISBLANK('2. Narrative'!AJ16),"",'2. Narrative'!AJ16) | H21: =IF(ISBLANK('2. Narrative'!AP16),"",'2. Narrative'!AP16) | I21: =IF(AND(ISNUMBER(SEARCH("Activity",$B21)),COUNTIF($D21:$H21,"Complete")>0),"yes","no") -> no | J21: =IF(AND(ISNUMBER(SEARCH("Output",$B21)),COUNTIF($D21:$H21,"Complete")>0),"yes","no") -> no | K21: =IF(AND(ISNUMBER(SEARCH("Outcome",$B21)),COUNTIF($D21:$H21,"Complete")>0),"yes","no") -> no | M21: =IF('3. Expenditures'!D15="CCAC", '3. Expenditures'!B15, 0) -> Activity 1.4.1 Conduct an in-depth evaluation of essential infrastructure for organic waste management (e.g., composting plants, biodigesters) | N21: =IF('3. Expenditures'!D15="CCAC", '3. Expenditures'!C15, 0) -> Staff and Other Personnel Costs | O21: =IF('3. Expenditures'!D15="CCAC", '3. Expenditures'!E15, 0) -> 10000 | P21: =SUM(Q21:U21) -> 0 | Q21: =IF('3. Expenditures'!D15="CCAC", '3. Expenditures'!L15, 0) -> 0 | R21: =IF('3. Expenditures'!D15="CCAC", '3. Expenditures'!N15, 0) -> 0 | S21: =IF('3. Expenditures'!D15="CCAC", '3. Expenditures'!P15, 0) -> 0 | T21: =IF('3. Expenditures'!D15="CCAC", '3. Expenditures'!R15, 0) -> 0 | U21: =IF('3. Expenditures'!D15="CCAC", '3. Expenditures'!T15, 0) -> 0 | W21: =IF('3. Expenditures'!D15="Co-funding", '3. Expenditures'!L15+'3. Expenditures'!N15+'3. Expenditures'!P15+'3. Expenditures'!R15+'3. Expenditures'!T15, 0) -> 0
B22: =IF('INT-Pivots'!G17="","",'INT-Pivots'!G17) -> Activity 1.3.3 Prepare an accessible visual infographic summarizing key recommendations for public dissemination. | C22: =IF('INT-Pivots'!K17="","",IF('INT-Pivots'!K17="(blank)","Project end",VALUE('INT-Pivots'!K17))) -> 46266 | D22: =IF(ISBLANK('2. Narrative'!R17),"",'2. Narrative'!R17) -> On track | E22: =IF(ISBLANK('2. Narrative'!X17),"",'2. Narrative'!X17) | F22: =IF(ISBLANK('2. Narrative'!AD17),"",'2. Narrative'!AD17) | G22: =IF(ISBLANK('2. Narrative'!AJ17),"",'2. Narrative'!AJ17) | H22: =IF(ISBLANK('2. Narrative'!AP17),"",'2. Narrative'!AP17) | I22: =IF(AND(ISNUMBER(SEARCH("Activity",$B22)),COUNTIF($D22:$H22,"Complete")>0),"yes","no") -> no | J22: =IF(AND(ISNUMBER(SEARCH("Output",$B22)),COUNTIF($D22:$H22,"Complete")>0),"yes","no") -> no | K22: =IF(AND(ISNUMBER(SEARCH("Outcome",$B22)),COUNTIF($D22:$H22,"Complete")>0),"yes","no") -> no | M22: =IF('3. Expenditures'!D16="CCAC", '3. Expenditures'!B16, 0) -> Activity 1.4.2 Compile findings into a comprehensive report highlighting investment opportunities, environmental and economic benefits, and potential social impacts. Share the report through workshops and online platforms targeting public and private stakeholders. | N22: =IF('3. Expenditures'!D16="CCAC", '3. Expenditures'!C16, 0) -> Staff and Other Personnel Costs | O22: =IF('3. Expenditures'!D16="CCAC", '3. Expenditures'!E16, 0) -> 5000 | P22: =SUM(Q22:U22) -> 0 | Q22: =IF('3. Expenditures'!D16="CCAC", '3. Expenditures'!L16, 0) -> 0 | R22: =IF('3. Expenditures'!D16="CCAC", '3. Expenditures'!N16, 0) -> 0 | S22: =IF('3. Expenditures'!D16="CCAC", '3. Expenditures'!P16, 0) -> 0 | T22: =IF('3. Expenditures'!D16="CCAC", '3. Expenditures'!R16, 0) -> 0 | U22: =IF('3. Expenditures'!D16="CCAC", '3. Expenditures'!T16, 0) -> 0 | W22: =IF('3. Expenditures'!D16="Co-funding", '3. Expenditures'!L16+'3. Expenditures'!N16+'3. Expenditures'!P16+'3. Expenditures'!R16+'3. Expenditures'!T16, 0) -> 0
B23: =IF('INT-Pivots'!G18="","",'INT-Pivots'!G18) -> Output 1.4 Report indentifying necessary infraestructure and investment to support organic waste management | C23: =IF('INT-Pivots'!K18="","",IF('INT-Pivots'!K18="(blank)","Project end",VALUE('INT-Pivots'!K18))) -> 46357 | D23: =IF(ISBLANK('2. Narrative'!R18),"",'2. Narrative'!R18) -> Not started | E23: =IF(ISBLANK('2. Narrative'!X18),"",'2. Narrative'!X18) | F23: =IF(ISBLANK('2. Narrative'!AD18),"",'2. Narrative'!AD18) | G23: =IF(ISBLANK('2. Narrative'!AJ18),"",'2. Narrative'!AJ18) | H23: =IF(ISBLANK('2. Narrative'!AP18),"",'2. Narrative'!AP18) | I23: =IF(AND(ISNUMBER(SEARCH("Activity",$B23)),COUNTIF($D23:$H23,"Complete")>0),"yes","no") -> no | J23: =IF(AND(ISNUMBER(SEARCH("Output",$B23)),COUNTIF($D23:$H23,"Complete")>0),"yes","no") -> no | K23: =IF(AND(ISNUMBER(SEARCH("Outcome",$B23)),COUNTIF($D23:$H23,"Complete")>0),"yes","no") -> no | M23: =IF('3. Expenditures'!D17="CCAC", '3. Expenditures'!B17, 0) -> Activity 2.1.1Identify and evaluate projects with business potential, ensuring inclusion of women-led initiatives and alignment with national goals. | N23: =IF('3. Expenditures'!D17="CCAC", '3. Expenditures'!C17, 0) -> Contractual Services | O23: =IF('3. Expenditures'!D17="CCAC", '3. Expenditures'!E17, 0) -> 20000 | P23: =SUM(Q23:U23) -> 0 | Q23: =IF('3. Expenditures'!D17="CCAC", '3. Expenditures'!L17, 0) -> 0 | R23: =IF('3. Expenditures'!D17="CCAC", '3. Expenditures'!N17, 0) -> 0 | S23: =IF('3. Expenditures'!D17="CCAC", '3. Expenditures'!P17, 0) -> 0 | T23: =IF('3. Expenditures'!D17="CCAC", '3. Expenditures'!R17, 0) -> 0 | U23: =IF('3. Expenditures'!D17="CCAC", '3. Expenditures'!T17, 0) -> 0 | W23: =IF('3. Expenditures'!D17="Co-funding", '3. Expenditures'!L17+'3. Expenditures'!N17+'3. Expenditures'!P17+'3. Expenditures'!R17+'3. Expenditures'!T17, 0) -> 0
B24: =IF('INT-Pivots'!G19="","",'INT-Pivots'!G19) -> Activity 1.4.1 Conduct an in-depth evaluation of essential infrastructure for organic waste management (e.g., composting plants, biodigesters) | C24: =IF('INT-Pivots'!K19="","",IF('INT-Pivots'!K19="(blank)","Project end",VALUE('INT-Pivots'!K19))) -> 46357 | D24: =IF(ISBLANK('2. Narrative'!R19),"",'2. Narrative'!R19) -> Not started | E24: =IF(ISBLANK('2. Narrative'!X19),"",'2. Narrative'!X19) | F24: =IF(ISBLANK('2. Narrative'!AD19),"",'2. Narrative'!AD19) | G24: =IF(ISBLANK('2. Narrative'!AJ19),"",'2. Narrative'!AJ19) | H24: =IF(ISBLANK('2. Narrative'!AP19),"",'2. Narrative'!AP19) | I24: =IF(AND(ISNUMBER(SEARCH("Activity",$B24)),COUNTIF($D24:$H24,"Complete")>0),"yes","no") -> no | J24: =IF(AND(ISNUMBER(SEARCH("Output",$B24)),COUNTIF($D24:$H24,"Complete")>0),"yes","no") -> no | K24: =IF(AND(ISNUMBER(SEARCH("Outcome",$B24)),COUNTIF($D24:$H24,"Complete")>0),"yes","no") -> no | M24: =IF('3. Expenditures'!D18="CCAC", '3. Expenditures'!B18, 0) -> Activity 2.1.2Develop a portfolio of selected projects with detailed descriptions and expected outcomes, highlighting gender-specific benefits. | N24: =IF('3. Expenditures'!D18="CCAC", '3. Expenditures'!C18, 0) -> Staff and Other Personnel Costs | O24: =IF('3. Expenditures'!D18="CCAC", '3. Expenditures'!E18, 0) -> 15000 | P24: =SUM(Q24:U24) -> 0 | Q24: =IF('3. Expenditures'!D18="CCAC", '3. Expenditures'!L18, 0) -> 0 | R24: =IF('3. Expenditures'!D18="CCAC", '3. Expenditures'!N18, 0) -> 0 | S24: =IF('3. Expenditures'!D18="CCAC", '3. Expenditures'!P18, 0) -> 0 | T24: =IF('3. Expenditures'!D18="CCAC", '3. Expenditures'!R18, 0) -> 0 | U24: =IF('3. Expenditures'!D18="CCAC", '3. Expenditures'!T18, 0) -> 0 | W24: =IF('3. Expenditures'!D18="Co-funding", '3. Expenditures'!L18+'3. Expenditures'!N18+'3. Expenditures'!P18+'3. Expenditures'!R18+'3. Expenditures'!T18, 0) -> 0
B25: =IF('INT-Pivots'!G20="","",'INT-Pivots'!G20) -> Activity 1.4.2 Compile findings into a comprehensive report highlighting investment opportunities, environmental and economic benefits, and potential social impacts. Share the report through workshops and online platforms targeting public and private stakeholders. | C25: =IF('INT-Pivots'!K20="","",IF('INT-Pivots'!K20="(blank)","Project end",VALUE('INT-Pivots'!K20))) -> 46357 | D25: =IF(ISBLANK('2. Narrative'!R20),"",'2. Narrative'!R20) -> Not started | E25: =IF(ISBLANK('2. Narrative'!X20),"",'2. Narrative'!X20) | F25: =IF(ISBLANK('2. Narrative'!AD20),"",'2. Narrative'!AD20) | G25: =IF(ISBLANK('2. Narrative'!AJ20),"",'2. Narrative'!AJ20) | H25: =IF(ISBLANK('2. Narrative'!AP20),"",'2. Narrative'!AP20) | I25: =IF(AND(ISNUMBER(SEARCH("Activity",$B25)),COUNTIF($D25:$H25,"Complete")>0),"yes","no") -> no | J25: =IF(AND(ISNUMBER(SEARCH("Output",$B25)),COUNTIF($D25:$H25,"Complete")>0),"yes","no") -> no | K25: =IF(AND(ISNUMBER(SEARCH("Outcome",$B25)),COUNTIF($D25:$H25,"Complete")>0),"yes","no") -> no | M25: =IF('3. Expenditures'!D19="CCAC", '3. Expenditures'!B19, 0) -> Activity 2.1.3Engage private sector investors and financial institutions in the evaluation process to co-create viable financing strategies. | N25: =IF('3. Expenditures'!D19="CCAC", '3. Expenditures'!C19, 0) -> Staff and Other Personnel Costs | O25: =IF('3. Expenditures'!D19="CCAC", '3. Expenditures'!E19, 0) -> 15000 | P25: =SUM(Q25:U25) -> 0 | Q25: =IF('3. Expenditures'!D19="CCAC", '3. Expenditures'!L19, 0) -> 0 | R25: =IF('3. Expenditures'!D19="CCAC", '3. Expenditures'!N19, 0) -> 0 | S25: =IF('3. Expenditures'!D19="CCAC", '3. Expenditures'!P19, 0) -> 0 | T25: =IF('3. Expenditures'!D19="CCAC", '3. Expenditures'!R19, 0) -> 0 | U25: =IF('3. Expenditures'!D19="CCAC", '3. Expenditures'!T19, 0) -> 0 | W25: =IF('3. Expenditures'!D19="Co-funding", '3. Expenditures'!L19+'3. Expenditures'!N19+'3. Expenditures'!P19+'3. Expenditures'!R19+'3. Expenditures'!T19, 0) -> 0
B26: =IF('INT-Pivots'!G21="","",'INT-Pivots'!G21) -> Outcome 2. The Government of Panama endorses project proposals/ initiatives for organic waste management using MERCA market as a pilot for submission to public and private funding sources by the end of the project. | C26: =IF('INT-Pivots'!K21="","",IF('INT-Pivots'!K21="(blank)","Project end",VALUE('INT-Pivots'!K21))) -> Project end | D26: =IF(ISBLANK('2. Narrative'!R21),"",'2. Narrative'!R21) -> On track | E26: =IF(ISBLANK('2. Narrative'!X21),"",'2. Narrative'!X21) | F26: =IF(ISBLANK('2. Narrative'!AD21),"",'2. Narrative'!AD21) | G26: =IF(ISBLANK('2. Narrative'!AJ21),"",'2. Narrative'!AJ21) | H26: =IF(ISBLANK('2. Narrative'!AP21),"",'2. Narrative'!AP21) | I26: =IF(AND(ISNUMBER(SEARCH("Activity",$B26)),COUNTIF($D26:$H26,"Complete")>0),"yes","no") -> no | J26: =IF(AND(ISNUMBER(SEARCH("Output",$B26)),COUNTIF($D26:$H26,"Complete")>0),"yes","no") -> no | K26: =IF(AND(ISNUMBER(SEARCH("Outcome",$B26)),COUNTIF($D26:$H26,"Complete")>0),"yes","no") -> no | M26: =IF('3. Expenditures'!D20="CCAC", '3. Expenditures'!B20, 0) -> Activity 2.2.1Host a multi-stakeholder workshop, ensuring representation from women-led organizations, to prioritize three high-impact projects. | N26: =IF('3. Expenditures'!D20="CCAC", '3. Expenditures'!C20, 0) -> Contractual Services | O26: =IF('3. Expenditures'!D20="CCAC", '3. Expenditures'!E20, 0) -> 3000 | P26: =SUM(Q26:U26) -> 0 | Q26: =IF('3. Expenditures'!D20="CCAC", '3. Expenditures'!L20, 0) -> 0 | R26: =IF('3. Expenditures'!D20="CCAC", '3. Expenditures'!N20, 0) -> 0 | S26: =IF('3. Expenditures'!D20="CCAC", '3. Expenditures'!P20, 0) -> 0 | T26: =IF('3. Expenditures'!D20="CCAC", '3. Expenditures'!R20, 0) -> 0 | U26: =IF('3. Expenditures'!D20="CCAC", '3. Expenditures'!T20, 0) -> 0 | W26: =IF('3. Expenditures'!D20="Co-funding", '3. Expenditures'!L20+'3. Expenditures'!N20+'3. Expenditures'!P20+'3. Expenditures'!R20+'3. Expenditures'!T20, 0) -> 0
B27: =IF('INT-Pivots'!G22="","",'INT-Pivots'!G22) -> Output 2.1 Identification of projects/inititives | C27: =IF('INT-Pivots'!K22="","",IF('INT-Pivots'!K22="(blank)","Project end",VALUE('INT-Pivots'!K22))) -> 46174 | D27: =IF(ISBLANK('2. Narrative'!R22),"",'2. Narrative'!R22) -> Delayed | E27: =IF(ISBLANK('2. Narrative'!X22),"",'2. Narrative'!X22) | F27: =IF(ISBLANK('2. Narrative'!AD22),"",'2. Narrative'!AD22) | G27: =IF(ISBLANK('2. Narrative'!AJ22),"",'2. Narrative'!AJ22) | H27: =IF(ISBLANK('2. Narrative'!AP22),"",'2. Narrative'!AP22) | I27: =IF(AND(ISNUMBER(SEARCH("Activity",$B27)),COUNTIF($D27:$H27,"Complete")>0),"yes","no") -> no | J27: =IF(AND(ISNUMBER(SEARCH("Output",$B27)),COUNTIF($D27:$H27,"Complete")>0),"yes","no") -> no | K27: =IF(AND(ISNUMBER(SEARCH("Outcome",$B27)),COUNTIF($D27:$H27,"Complete")>0),"yes","no") -> no | M27: =IF('3. Expenditures'!D21="CCAC", '3. Expenditures'!B21, 0) -> Activity 2.2.2Develop detailed financial plans for selected projects, including specific tools tailored to benefit marginalized groups. | N27: =IF('3. Expenditures'!D21="CCAC", '3. Expenditures'!C21, 0) -> Staff and Other Personnel Costs | O27: =IF('3. Expenditures'!D21="CCAC", '3. Expenditures'!E21, 0) -> 15000 | P27: =SUM(Q27:U27) -> 0 | Q27: =IF('3. Expenditures'!D21="CCAC", '3. Expenditures'!L21, 0) -> 0 | R27: =IF('3. Expenditures'!D21="CCAC", '3. Expenditures'!N21, 0) -> 0 | S27: =IF('3. Expenditures'!D21="CCAC", '3. Expenditures'!P21, 0) -> 0 | T27: =IF('3. Expenditures'!D21="CCAC", '3. Expenditures'!R21, 0) -> 0 | U27: =IF('3. Expenditures'!D21="CCAC", '3. Expenditures'!T21, 0) -> 0 | W27: =IF('3. Expenditures'!D21="Co-funding", '3. Expenditures'!L21+'3. Expenditures'!N21+'3. Expenditures'!P21+'3. Expenditures'!R21+'3. Expenditures'!T21, 0) -> 0
B28: =IF('INT-Pivots'!G23="","",'INT-Pivots'!G23) -> Activity 2.1.1Identify and evaluate projects with business potential, ensuring inclusion of women-led initiatives and alignment with national goals. | C28: =IF('INT-Pivots'!K23="","",IF('INT-Pivots'!K23="(blank)","Project end",VALUE('INT-Pivots'!K23))) -> 46174 | D28: =IF(ISBLANK('2. Narrative'!R23),"",'2. Narrative'!R23) -> Delayed | E28: =IF(ISBLANK('2. Narrative'!X23),"",'2. Narrative'!X23) | F28: =IF(ISBLANK('2. Narrative'!AD23),"",'2. Narrative'!AD23) | G28: =IF(ISBLANK('2. Narrative'!AJ23),"",'2. Narrative'!AJ23) | H28: =IF(ISBLANK('2. Narrative'!AP23),"",'2. Narrative'!AP23) | I28: =IF(AND(ISNUMBER(SEARCH("Activity",$B28)),COUNTIF($D28:$H28,"Complete")>0),"yes","no") -> no | J28: =IF(AND(ISNUMBER(SEARCH("Output",$B28)),COUNTIF($D28:$H28,"Complete")>0),"yes","no") -> no | K28: =IF(AND(ISNUMBER(SEARCH("Outcome",$B28)),COUNTIF($D28:$H28,"Complete")>0),"yes","no") -> no | M28: =IF('3. Expenditures'!D22="CCAC", '3. Expenditures'!B22, 0) -> Activity 2.2.3Release a press statement highlighting the selected projects to attract further investment and support. | N28: =IF('3. Expenditures'!D22="CCAC", '3. Expenditures'!C22, 0) -> Equipment Vehicles and Furniture | O28: =IF('3. Expenditures'!D22="CCAC", '3. Expenditures'!E22, 0) -> 3000 | P28: =SUM(Q28:U28) -> 0 | Q28: =IF('3. Expenditures'!D22="CCAC", '3. Expenditures'!L22, 0) -> 0 | R28: =IF('3. Expenditures'!D22="CCAC", '3. Expenditures'!N22, 0) -> 0 | S28: =IF('3. Expenditures'!D22="CCAC", '3. Expenditures'!P22, 0) -> 0 | T28: =IF('3. Expenditures'!D22="CCAC", '3. Expenditures'!R22, 0) -> 0 | U28: =IF('3. Expenditures'!D22="CCAC", '3. Expenditures'!T22, 0) -> 0 | W28: =IF('3. Expenditures'!D22="Co-funding", '3. Expenditures'!L22+'3. Expenditures'!N22+'3. Expenditures'!P22+'3. Expenditures'!R22+'3. Expenditures'!T22, 0) -> 0
B29: =IF('INT-Pivots'!G24="","",'INT-Pivots'!G24) -> Activity 2.1.2Develop a portfolio of selected projects with detailed descriptions and expected outcomes, highlighting gender-specific benefits. | C29: =IF('INT-Pivots'!K24="","",IF('INT-Pivots'!K24="(blank)","Project end",VALUE('INT-Pivots'!K24))) -> 46174 | D29: =IF(ISBLANK('2. Narrative'!R24),"",'2. Narrative'!R24) -> Delayed | E29: =IF(ISBLANK('2. Narrative'!X24),"",'2. Narrative'!X24) | F29: =IF(ISBLANK('2. Narrative'!AD24),"",'2. Narrative'!AD24) | G29: =IF(ISBLANK('2. Narrative'!AJ24),"",'2. Narrative'!AJ24) | H29: =IF(ISBLANK('2. Narrative'!AP24),"",'2. Narrative'!AP24) | I29: =IF(AND(ISNUMBER(SEARCH("Activity",$B29)),COUNTIF($D29:$H29,"Complete")>0),"yes","no") -> no | J29: =IF(AND(ISNUMBER(SEARCH("Output",$B29)),COUNTIF($D29:$H29,"Complete")>0),"yes","no") -> no | K29: =IF(AND(ISNUMBER(SEARCH("Outcome",$B29)),COUNTIF($D29:$H29,"Complete")>0),"yes","no") -> no | M29: =IF('3. Expenditures'!D23="CCAC", '3. Expenditures'!B23, 0) -> Activity 2.2.3Release a press statement highlighting the selected projects to attract further investment and support. | N29: =IF('3. Expenditures'!D23="CCAC", '3. Expenditures'!C23, 0) -> Staff and Other Personnel Costs | O29: =IF('3. Expenditures'!D23="CCAC", '3. Expenditures'!E23, 0) -> 15000 | P29: =SUM(Q29:U29) -> 0 | Q29: =IF('3. Expenditures'!D23="CCAC", '3. Expenditures'!L23, 0) -> 0 | R29: =IF('3. Expenditures'!D23="CCAC", '3. Expenditures'!N23, 0) -> 0 | S29: =IF('3. Expenditures'!D23="CCAC", '3. Expenditures'!P23, 0) -> 0 | T29: =IF('3. Expenditures'!D23="CCAC", '3. Expenditures'!R23, 0) -> 0 | U29: =IF('3. Expenditures'!D23="CCAC", '3. Expenditures'!T23, 0) -> 0 | W29: =IF('3. Expenditures'!D23="Co-funding", '3. Expenditures'!L23+'3. Expenditures'!N23+'3. Expenditures'!P23+'3. Expenditures'!R23+'3. Expenditures'!T23, 0) -> 0
B30: =IF('INT-Pivots'!G25="","",'INT-Pivots'!G25) -> Activity 2.1.3Engage private sector investors and financial institutions in the evaluation process to co-create viable financing strategies. | C30: =IF('INT-Pivots'!K25="","",IF('INT-Pivots'!K25="(blank)","Project end",VALUE('INT-Pivots'!K25))) -> 46174 | D30: =IF(ISBLANK('2. Narrative'!R25),"",'2. Narrative'!R25) -> Delayed | E30: =IF(ISBLANK('2. Narrative'!X25),"",'2. Narrative'!X25) | F30: =IF(ISBLANK('2. Narrative'!AD25),"",'2. Narrative'!AD25) | G30: =IF(ISBLANK('2. Narrative'!AJ25),"",'2. Narrative'!AJ25) | H30: =IF(ISBLANK('2. Narrative'!AP25),"",'2. Narrative'!AP25) | I30: =IF(AND(ISNUMBER(SEARCH("Activity",$B30)),COUNTIF($D30:$H30,"Complete")>0),"yes","no") -> no | J30: =IF(AND(ISNUMBER(SEARCH("Output",$B30)),COUNTIF($D30:$H30,"Complete")>0),"yes","no") -> no | K30: =IF(AND(ISNUMBER(SEARCH("Outcome",$B30)),COUNTIF($D30:$H30,"Complete")>0),"yes","no") -> no | M30: =IF('3. Expenditures'!D24="CCAC", '3. Expenditures'!B24, 0) -> Activity 3.1.1Review existing policies and regulations related to organic waste and SLCPs, engaging policymakers, academics, and gender specialists. | N30: =IF('3. Expenditures'!D24="CCAC", '3. Expenditures'!C24, 0) -> Staff and Other Personnel Costs | O30: =IF('3. Expenditures'!D24="CCAC", '3. Expenditures'!E24, 0) -> 15000 | P30: =SUM(Q30:U30) -> 0 | Q30: =IF('3. Expenditures'!D24="CCAC", '3. Expenditures'!L24, 0) -> 0 | R30: =IF('3. Expenditures'!D24="CCAC", '3. Expenditures'!N24, 0) -> 0 | S30: =IF('3. Expenditures'!D24="CCAC", '3. Expenditures'!P24, 0) -> 0 | T30: =IF('3. Expenditures'!D24="CCAC", '3. Expenditures'!R24, 0) -> 0 | U30: =IF('3. Expenditures'!D24="CCAC", '3. Expenditures'!T24, 0) -> 0 | W30: =IF('3. Expenditures'!D24="Co-funding", '3. Expenditures'!L24+'3. Expenditures'!N24+'3. Expenditures'!P24+'3. Expenditures'!R24+'3. Expenditures'!T24, 0) -> 0
... B107: =IF('INT-Pivots'!G102="","",'INT-Pivots'!G102) | C107: =IF('INT-Pivots'!K102="","",IF('INT-Pivots'!K102="(blank)","Project end",VALUE('INT-Pivots'!K102))) | D107: =IF(ISBLANK('2. Narrative'!R102),"",'2. Narrative'!R102) | E107: =IF(ISBLANK('2. Narrative'!X102),"",'2. Narrative'!X102) | F107: =IF(ISBLANK('2. Narrative'!AD102),"",'2. Narrative'!AD102) | G107: =IF(ISBLANK('2. Narrative'!AJ102),"",'2. Narrative'!AJ102) | H107: =IF(ISBLANK('2. Narrative'!AP102),"",'2. Narrative'!AP102) | I107: =IF(AND(ISNUMBER(SEARCH("Activity",$B107)),COUNTIF($D107:$H107,"Complete")>0),"yes","no") -> no | J107: =IF(AND(ISNUMBER(SEARCH("Output",$B107)),COUNTIF($D107:$H107,"Complete")>0),"yes","no") -> no | K107: =IF(AND(ISNUMBER(SEARCH("Outcome",$B107)),COUNTIF($D107:$H107,"Complete")>0),"yes","no") -> no | M107: =IF('3. Expenditures'!D101="CCAC", '3. Expenditures'!B101, 0) -> 0 | N107: =IF('3. Expenditures'!D101="CCAC", '3. Expenditures'!C101, 0) -> 0 | O107: =IF('3. Expenditures'!D101="CCAC", '3. Expenditures'!E101, 0) -> 0 | P107: =SUM(Q107:U107) -> 0 | Q107: =IF('3. Expenditures'!D101="CCAC", '3. Expenditures'!L101, 0) -> 0 | R107: =IF('3. Expenditures'!D101="CCAC", '3. Expenditures'!N101, 0) -> 0 | S107: =IF('3. Expenditures'!D101="CCAC", '3. Expenditures'!P101, 0) -> 0 | T107: =IF('3. Expenditures'!D101="CCAC", '3. Expenditures'!R101, 0) -> 0 | U107: =IF('3. Expenditures'!D101="CCAC", '3. Expenditures'!T101, 0) -> 0 | W107: =IF('3. Expenditures'!D101="Co-funding", '3. Expenditures'!L101+'3. Expenditures'!N101+'3. Expenditures'!P101+'3. Expenditures'!R101+'3. Expenditures'!T101, 0) -> 0
B108: =IF('INT-Pivots'!G103="","",'INT-Pivots'!G103) | C108: =IF('INT-Pivots'!K103="","",IF('INT-Pivots'!K103="(blank)","Project end",VALUE('INT-Pivots'!K103))) | D108: =IF(ISBLANK('2. Narrative'!R103),"",'2. Narrative'!R103) | E108: =IF(ISBLANK('2. Narrative'!X103),"",'2. Narrative'!X103) | F108: =IF(ISBLANK('2. Narrative'!AD103),"",'2. Narrative'!AD103) | G108: =IF(ISBLANK('2. Narrative'!AJ103),"",'2. Narrative'!AJ103) | H108: =IF(ISBLANK('2. Narrative'!AP103),"",'2. Narrative'!AP103) | I108: =IF(AND(ISNUMBER(SEARCH("Activity",$B108)),COUNTIF($D108:$H108,"Complete")>0),"yes","no") -> no | J108: =IF(AND(ISNUMBER(SEARCH("Output",$B108)),COUNTIF($D108:$H108,"Complete")>0),"yes","no") -> no | K108: =IF(AND(ISNUMBER(SEARCH("Outcome",$B108)),COUNTIF($D108:$H108,"Complete")>0),"yes","no") -> no | M108: =IF('3. Expenditures'!#REF!="CCAC", '3. Expenditures'!#REF!, 0) -> #REF! | N108: =IF('3. Expenditures'!#REF!="CCAC", '3. Expenditures'!#REF!, 0) -> #REF! | O108: =IF('3. Expenditures'!#REF!="CCAC", '3. Expenditures'!#REF!, 0) -> #REF! | P108: =SUM(Q108:U108) -> #REF! | Q108: =IF('3. Expenditures'!#REF!="CCAC", '3. Expenditures'!#REF!, 0) -> #REF! | R108: =IF('3. Expenditures'!#REF!="CCAC", '3. Expenditures'!#REF!, 0) -> #REF! | S108: =IF('3. Expenditures'!#REF!="CCAC", '3. Expenditures'!#REF!, 0) -> #REF! | T108: =IF('3. Expenditures'!#REF!="CCAC", '3. Expenditures'!#REF!, 0) -> #REF! | U108: =IF('3. Expenditures'!#REF!="CCAC", '3. Expenditures'!#REF!, 0) -> #REF! | W108: =IF('3. Expenditures'!#REF!="Co-funding", '3. Expenditures'!#REF!+'3. Expenditures'!#REF!+'3. Expenditures'!#REF!+'3. Expenditures'!#REF!+'3. Expenditures'!#REF!, 0) -> #REF!
B109: =IF('INT-Pivots'!G104="","",'INT-Pivots'!G104) | C109: =IF('INT-Pivots'!K104="","",IF('INT-Pivots'!K104="(blank)","Project end",VALUE('INT-Pivots'!K104))) | D109: =IF(ISBLANK('2. Narrative'!R104),"",'2. Narrative'!R104) | E109: =IF(ISBLANK('2. Narrative'!X104),"",'2. Narrative'!X104) | F109: =IF(ISBLANK('2. Narrative'!AD104),"",'2. Narrative'!AD104) | G109: =IF(ISBLANK('2. Narrative'!AJ104),"",'2. Narrative'!AJ104) | H109: =IF(ISBLANK('2. Narrative'!AP104),"",'2. Narrative'!AP104) | I109: =IF(AND(ISNUMBER(SEARCH("Activity",$B109)),COUNTIF($D109:$H109,"Complete")>0),"yes","no") -> no | J109: =IF(AND(ISNUMBER(SEARCH("Output",$B109)),COUNTIF($D109:$H109,"Complete")>0),"yes","no") -> no | K109: =IF(AND(ISNUMBER(SEARCH("Outcome",$B109)),COUNTIF($D109:$H109,"Complete")>0),"yes","no") -> no | M109: =IF('3. Expenditures'!D102="CCAC", '3. Expenditures'!B102, 0) -> 0 | N109: =IF('3. Expenditures'!D102="CCAC", '3. Expenditures'!C102, 0) -> 0 | O109: =IF('3. Expenditures'!D102="CCAC", '3. Expenditures'!E102, 0) -> 0 | P109: =SUM(Q109:U109) -> 0 | Q109: =IF('3. Expenditures'!D102="CCAC", '3. Expenditures'!L102, 0) -> 0 | R109: =IF('3. Expenditures'!D102="CCAC", '3. Expenditures'!N102, 0) -> 0 | S109: =IF('3. Expenditures'!D102="CCAC", '3. Expenditures'!P102, 0) -> 0 | T109: =IF('3. Expenditures'!D102="CCAC", '3. Expenditures'!R102, 0) -> 0 | U109: =IF('3. Expenditures'!D102="CCAC", '3. Expenditures'!T102, 0) -> 0 | W109: =IF('3. Expenditures'!D102="Co-funding", '3. Expenditures'!L102+'3. Expenditures'!N102+'3. Expenditures'!P102+'3. Expenditures'!R102+'3. Expenditures'!T102, 0) -> 0
B110: =IF('INT-Pivots'!G105="","",'INT-Pivots'!G105) | C110: =IF('INT-Pivots'!K105="","",IF('INT-Pivots'!K105="(blank)","Project end",VALUE('INT-Pivots'!K105))) | D110: =IF(ISBLANK('2. Narrative'!R105),"",'2. Narrative'!R105) | E110: =IF(ISBLANK('2. Narrative'!X105),"",'2. Narrative'!X105) | F110: =IF(ISBLANK('2. Narrative'!AD105),"",'2. Narrative'!AD105) | G110: =IF(ISBLANK('2. Narrative'!AJ105),"",'2. Narrative'!AJ105) | H110: =IF(ISBLANK('2. Narrative'!AP105),"",'2. Narrative'!AP105) | I110: =IF(AND(ISNUMBER(SEARCH("Activity",$B110)),COUNTIF($D110:$H110,"Complete")>0),"yes","no") -> no | J110: =IF(AND(ISNUMBER(SEARCH("Output",$B110)),COUNTIF($D110:$H110,"Complete")>0),"yes","no") -> no | K110: =IF(AND(ISNUMBER(SEARCH("Outcome",$B110)),COUNTIF($D110:$H110,"Complete")>0),"yes","no") -> no | M110: =IF('3. Expenditures'!D103="CCAC", '3. Expenditures'!B103, 0) -> 0 | N110: =IF('3. Expenditures'!D103="CCAC", '3. Expenditures'!C103, 0) -> 0 | O110: =IF('3. Expenditures'!D103="CCAC", '3. Expenditures'!E103, 0) -> 0 | P110: =SUM(Q110:U110) -> 0 | Q110: =IF('3. Expenditures'!D103="CCAC", '3. Expenditures'!L103, 0) -> 0 | R110: =IF('3. Expenditures'!D103="CCAC", '3. Expenditures'!N103, 0) -> 0 | S110: =IF('3. Expenditures'!D103="CCAC", '3. Expenditures'!P103, 0) -> 0 | T110: =IF('3. Expenditures'!D103="CCAC", '3. Expenditures'!R103, 0) -> 0 | U110: =IF('3. Expenditures'!D103="CCAC", '3. Expenditures'!T103, 0) -> 0 | W110: =IF('3. Expenditures'!D103="Co-funding", '3. Expenditures'!L103+'3. Expenditures'!N103+'3. Expenditures'!P103+'3. Expenditures'!R103+'3. Expenditures'!T103, 0) -> 0
B111: =IF('INT-Pivots'!G106="","",'INT-Pivots'!G106) | C111: =IF('INT-Pivots'!K106="","",IF('INT-Pivots'!K106="(blank)","Project end",VALUE('INT-Pivots'!K106))) | D111: =IF(ISBLANK('2. Narrative'!R106),"",'2. Narrative'!R106) | E111: =IF(ISBLANK('2. Narrative'!X106),"",'2. Narrative'!X106) | F111: =IF(ISBLANK('2. Narrative'!AD106),"",'2. Narrative'!AD106) | G111: =IF(ISBLANK('2. Narrative'!AJ106),"",'2. Narrative'!AJ106) | H111: =IF(ISBLANK('2. Narrative'!AP106),"",'2. Narrative'!AP106) | I111: =IF(AND(ISNUMBER(SEARCH("Activity",$B111)),COUNTIF($D111:$H111,"Complete")>0),"yes","no") -> no | J111: =IF(AND(ISNUMBER(SEARCH("Output",$B111)),COUNTIF($D111:$H111,"Complete")>0),"yes","no") -> no | K111: =IF(AND(ISNUMBER(SEARCH("Outcome",$B111)),COUNTIF($D111:$H111,"Complete")>0),"yes","no") -> no | M111: =IF('3. Expenditures'!D104="CCAC", '3. Expenditures'!B104, 0) -> 0 | N111: =IF('3. Expenditures'!D104="CCAC", '3. Expenditures'!C104, 0) -> 0 | O111: =IF('3. Expenditures'!D104="CCAC", '3. Expenditures'!E104, 0) -> 0 | P111: =SUM(Q111:U111) -> 0 | Q111: =IF('3. Expenditures'!D104="CCAC", '3. Expenditures'!L104, 0) -> 0 | R111: =IF('3. Expenditures'!D104="CCAC", '3. Expenditures'!N104, 0) -> 0 | S111: =IF('3. Expenditures'!D104="CCAC", '3. Expenditures'!P104, 0) -> 0 | T111: =IF('3. Expenditures'!D104="CCAC", '3. Expenditures'!R104, 0) -> 0 | U111: =IF('3. Expenditures'!D104="CCAC", '3. Expenditures'!T104, 0) -> 0 | W111: =IF('3. Expenditures'!D104="Co-funding", '3. Expenditures'!L104+'3. Expenditures'!N104+'3. Expenditures'!P104+'3. Expenditures'!R104+'3. Expenditures'!T104, 0) -> 0
B112: =IF('INT-Pivots'!G107="","",'INT-Pivots'!G107) | C112: =IF('INT-Pivots'!K107="","",IF('INT-Pivots'!K107="(blank)","Project end",VALUE('INT-Pivots'!K107))) | D112: =IF(ISBLANK('2. Narrative'!R107),"",'2. Narrative'!R107) | E112: =IF(ISBLANK('2. Narrative'!X107),"",'2. Narrative'!X107) | F112: =IF(ISBLANK('2. Narrative'!AD107),"",'2. Narrative'!AD107) | G112: =IF(ISBLANK('2. Narrative'!AJ107),"",'2. Narrative'!AJ107) | H112: =IF(ISBLANK('2. Narrative'!AP107),"",'2. Narrative'!AP107) | I112: =IF(AND(ISNUMBER(SEARCH("Activity",$B112)),COUNTIF($D112:$H112,"Complete")>0),"yes","no") -> no | J112: =IF(AND(ISNUMBER(SEARCH("Output",$B112)),COUNTIF($D112:$H112,"Complete")>0),"yes","no") -> no | K112: =IF(AND(ISNUMBER(SEARCH("Outcome",$B112)),COUNTIF($D112:$H112,"Complete")>0),"yes","no") -> no | M112: =IF('3. Expenditures'!D105="CCAC", '3. Expenditures'!B105, 0) -> 0 | N112: =IF('3. Expenditures'!D105="CCAC", '3. Expenditures'!C105, 0) -> 0 | O112: =IF('3. Expenditures'!D105="CCAC", '3. Expenditures'!E105, 0) -> 0 | P112: =SUM(Q112:U112) -> 0 | Q112: =IF('3. Expenditures'!D105="CCAC", '3. Expenditures'!L105, 0) -> 0 | R112: =IF('3. Expenditures'!D105="CCAC", '3. Expenditures'!N105, 0) -> 0 | S112: =IF('3. Expenditures'!D105="CCAC", '3. Expenditures'!P105, 0) -> 0 | T112: =IF('3. Expenditures'!D105="CCAC", '3. Expenditures'!R105, 0) -> 0 | U112: =IF('3. Expenditures'!D105="CCAC", '3. Expenditures'!T105, 0) -> 0 | W112: =IF('3. Expenditures'!D105="Co-funding", '3. Expenditures'!L105+'3. Expenditures'!N105+'3. Expenditures'!P105+'3. Expenditures'!R105+'3. Expenditures'!T105, 0) -> 0
B113: =IF('INT-Pivots'!G108="","",'INT-Pivots'!G108) | C113: =IF('INT-Pivots'!K108="","",IF('INT-Pivots'!K108="(blank)","Project end",VALUE('INT-Pivots'!K108))) | D113: =IF(ISBLANK('2. Narrative'!R108),"",'2. Narrative'!R108) | E113: =IF(ISBLANK('2. Narrative'!X108),"",'2. Narrative'!X108) | F113: =IF(ISBLANK('2. Narrative'!AD108),"",'2. Narrative'!AD108) | G113: =IF(ISBLANK('2. Narrative'!AJ108),"",'2. Narrative'!AJ108) | H113: =IF(ISBLANK('2. Narrative'!AP108),"",'2. Narrative'!AP108) | I113: =IF(AND(ISNUMBER(SEARCH("Activity",$B113)),COUNTIF($D113:$H113,"Complete")>0),"yes","no") -> no | J113: =IF(AND(ISNUMBER(SEARCH("Output",$B113)),COUNTIF($D113:$H113,"Complete")>0),"yes","no") -> no | K113: =IF(AND(ISNUMBER(SEARCH("Outcome",$B113)),COUNTIF($D113:$H113,"Complete")>0),"yes","no") -> no | M113: =IF('3. Expenditures'!D106="CCAC", '3. Expenditures'!B106, 0) -> 0 | N113: =IF('3. Expenditures'!D106="CCAC", '3. Expenditures'!C106, 0) -> 0 | O113: =IF('3. Expenditures'!D106="CCAC", '3. Expenditures'!E106, 0) -> 0 | P113: =SUM(Q113:U113) -> 0 | Q113: =IF('3. Expenditures'!D106="CCAC", '3. Expenditures'!L106, 0) -> 0 | R113: =IF('3. Expenditures'!D106="CCAC", '3. Expenditures'!N106, 0) -> 0 | S113: =IF('3. Expenditures'!D106="CCAC", '3. Expenditures'!P106, 0) -> 0 | T113: =IF('3. Expenditures'!D106="CCAC", '3. Expenditures'!R106, 0) -> 0 | U113: =IF('3. Expenditures'!D106="CCAC", '3. Expenditures'!T106, 0) -> 0 | W113: =IF('3. Expenditures'!D106="Co-funding", '3. Expenditures'!L106+'3. Expenditures'!N106+'3. Expenditures'!P106+'3. Expenditures'!R106+'3. Expenditures'!T106, 0) -> 0
B114: =IF('INT-Pivots'!G109="","",'INT-Pivots'!G109) | C114: =IF('INT-Pivots'!K109="","",IF('INT-Pivots'!K109="(blank)","Project end",VALUE('INT-Pivots'!K109))) | D114: =IF(ISBLANK('2. Narrative'!R109),"",'2. Narrative'!R109) | E114: =IF(ISBLANK('2. Narrative'!X109),"",'2. Narrative'!X109) | F114: =IF(ISBLANK('2. Narrative'!AD109),"",'2. Narrative'!AD109) | G114: =IF(ISBLANK('2. Narrative'!AJ109),"",'2. Narrative'!AJ109) | H114: =IF(ISBLANK('2. Narrative'!AP109),"",'2. Narrative'!AP109) | I114: =IF(AND(ISNUMBER(SEARCH("Activity",$B114)),COUNTIF($D114:$H114,"Complete")>0),"yes","no") -> no | J114: =IF(AND(ISNUMBER(SEARCH("Output",$B114)),COUNTIF($D114:$H114,"Complete")>0),"yes","no") -> no | K114: =IF(AND(ISNUMBER(SEARCH("Outcome",$B114)),COUNTIF($D114:$H114,"Complete")>0),"yes","no") -> no | M114: =IF('3. Expenditures'!D107="CCAC", '3. Expenditures'!B107, 0) -> 0 | N114: =IF('3. Expenditures'!D107="CCAC", '3. Expenditures'!C107, 0) -> 0 | O114: =IF('3. Expenditures'!D107="CCAC", '3. Expenditures'!E107, 0) -> 0 | P114: =SUM(Q114:U114) -> 0 | Q114: =IF('3. Expenditures'!D107="CCAC", '3. Expenditures'!L107, 0) -> 0 | R114: =IF('3. Expenditures'!D107="CCAC", '3. Expenditures'!N107, 0) -> 0 | S114: =IF('3. Expenditures'!D107="CCAC", '3. Expenditures'!P107, 0) -> 0 | T114: =IF('3. Expenditures'!D107="CCAC", '3. Expenditures'!R107, 0) -> 0 | U114: =IF('3. Expenditures'!D107="CCAC", '3. Expenditures'!T107, 0) -> 0 | W114: =IF('3. Expenditures'!D107="Co-funding", '3. Expenditures'!L107+'3. Expenditures'!N107+'3. Expenditures'!P107+'3. Expenditures'!R107+'3. Expenditures'!T107, 0) -> 0
B115: =IF('INT-Pivots'!G110="","",'INT-Pivots'!G110) | C115: =IF('INT-Pivots'!K110="","",IF('INT-Pivots'!K110="(blank)","Project end",VALUE('INT-Pivots'!K110))) | D115: =IF(ISBLANK('2. Narrative'!R110),"",'2. Narrative'!R110) | E115: =IF(ISBLANK('2. Narrative'!X110),"",'2. Narrative'!X110) | F115: =IF(ISBLANK('2. Narrative'!AD110),"",'2. Narrative'!AD110) | G115: =IF(ISBLANK('2. Narrative'!AJ110),"",'2. Narrative'!AJ110) | H115: =IF(ISBLANK('2. Narrative'!AP110),"",'2. Narrative'!AP110) | I115: =IF(AND(ISNUMBER(SEARCH("Activity",$B115)),COUNTIF($D115:$H115,"Complete")>0),"yes","no") -> no | J115: =IF(AND(ISNUMBER(SEARCH("Output",$B115)),COUNTIF($D115:$H115,"Complete")>0),"yes","no") -> no | K115: =IF(AND(ISNUMBER(SEARCH("Outcome",$B115)),COUNTIF($D115:$H115,"Complete")>0),"yes","no") -> no | M115: =IF('3. Expenditures'!D108="CCAC", '3. Expenditures'!B108, 0) -> 0 | N115: =IF('3. Expenditures'!D108="CCAC", '3. Expenditures'!C108, 0) -> 0 | O115: =IF('3. Expenditures'!D108="CCAC", '3. Expenditures'!E108, 0) -> 0 | P115: =SUM(Q115:U115) -> 0 | Q115: =IF('3. Expenditures'!D108="CCAC", '3. Expenditures'!L108, 0) -> 0 | R115: =IF('3. Expenditures'!D108="CCAC", '3. Expenditures'!N108, 0) -> 0 | S115: =IF('3. Expenditures'!D108="CCAC", '3. Expenditures'!P108, 0) -> 0 | T115: =IF('3. Expenditures'!D108="CCAC", '3. Expenditures'!R108, 0) -> 0 | U115: =IF('3. Expenditures'!D108="CCAC", '3. Expenditures'!T108, 0) -> 0 | W115: =IF('3. Expenditures'!D108="Co-funding", '3. Expenditures'!L108+'3. Expenditures'!N108+'3. Expenditures'!P108+'3. Expenditures'!R108+'3. Expenditures'!T108, 0) -> 0
B116: =IF('INT-Pivots'!G111="","",'INT-Pivots'!G111) | C116: =IF('INT-Pivots'!K111="","",IF('INT-Pivots'!K111="(blank)","Project end",VALUE('INT-Pivots'!K111))) | D116: =IF(ISBLANK('2. Narrative'!R111),"",'2. Narrative'!R111) | E116: =IF(ISBLANK('2. Narrative'!X111),"",'2. Narrative'!X111) | F116: =IF(ISBLANK('2. Narrative'!AD111),"",'2. Narrative'!AD111) | G116: =IF(ISBLANK('2. Narrative'!AJ111),"",'2. Narrative'!AJ111) | H116: =IF(ISBLANK('2. Narrative'!AP111),"",'2. Narrative'!AP111) | I116: =IF(AND(ISNUMBER(SEARCH("Activity",$B116)),COUNTIF($D116:$H116,"Complete")>0),"yes","no") -> no | J116: =IF(AND(ISNUMBER(SEARCH("Output",$B116)),COUNTIF($D116:$H116,"Complete")>0),"yes","no") -> no | K116: =IF(AND(ISNUMBER(SEARCH("Outcome",$B116)),COUNTIF($D116:$H116,"Complete")>0),"yes","no") -> no | M116: =IF('3. Expenditures'!D109="CCAC", '3. Expenditures'!B109, 0) -> 0 | N116: =IF('3. Expenditures'!D109="CCAC", '3. Expenditures'!C109, 0) -> 0 | O116: =IF('3. Expenditures'!D109="CCAC", '3. Expenditures'!E109, 0) -> 0 | P116: =SUM(Q116:U116) -> 0 | Q116: =IF('3. Expenditures'!D109="CCAC", '3. Expenditures'!L109, 0) -> 0 | R116: =IF('3. Expenditures'!D109="CCAC", '3. Expenditures'!N109, 0) -> 0 | S116: =IF('3. Expenditures'!D109="CCAC", '3. Expenditures'!P109, 0) -> 0 | T116: =IF('3. Expenditures'!D109="CCAC", '3. Expenditures'!R109, 0) -> 0 | U116: =IF('3. Expenditures'!D109="CCAC", '3. Expenditures'!T109, 0) -> 0 | W116: =IF('3. Expenditures'!D109="Co-funding", '3. Expenditures'!L109+'3. Expenditures'!N109+'3. Expenditures'!P109+'3. Expenditures'!R109+'3. Expenditures'!T109, 0) -> 0
